BEGIN:VCALENDAR
VERSION:2.0
PRODID:-//ChamberMaster//Event Calendar 2.0//EN
METHOD:PUBLISH
X-PUBLISHED-TTL:P3D
REFRESH-INTERVAL:P3D
CALSCALE:GREGORIAN
BEGIN:VEVENT
DTSTART:20260428T163000Z
DTEND:20260428T190000Z
X-MICROSOFT-CDO-ALLDAYEVENT:FALSE
SUMMARY:The Hemet Workforce Development Center - Job & Resource Fair
DESCRIPTION:The Hemet Workforce Development Center\n\nJob & Resource Fair
X-ALT-DESC;FMTTYPE=text/html:<strong><span style="color:#0000CD\;"><span style="font-family:comic sans ms\;"><span style="font-size:16px\;">The Hemet Workforce Development Center<br />\nJob &amp\; Resource Fair</span></span></span></strong>
LOCATION:California Family Life Center 930 N. State St. Hemet\, CA 92543
UID:e.2361.16707
SEQUENCE:3
DTSTAMP:20260422T125547Z
URL:https://business.hemetsanjacintochamber.com/events/details/the-hemet-workforce-development-center-job-resource-fair-16707
END:VEVENT

END:VCALENDAR
