BEGIN:VCALENDAR
VERSION:2.0
PRODID:-//ChamberMaster//Event Calendar 2.0//EN
METHOD:PUBLISH
X-PUBLISHED-TTL:P3D
REFRESH-INTERVAL:P3D
CALSCALE:GREGORIAN
BEGIN:VEVENT
DTSTART:20260426T223000Z
DTEND:20260427T013000Z
X-MICROSOFT-CDO-ALLDAYEVENT:FALSE
SUMMARY:Ramona Outdoor Play
DESCRIPTION:103rd Season of Ramona\n\nCalifornia's Official Outdoor Play
X-ALT-DESC;FMTTYPE=text/html:<span style="font-size:16px\;"><span style="font-family:comic sans ms\;"><span style="color:#006400\;"><strong>103rd Season of Ramona<br />\nCalifornia&#39\;s Official Outdoor Play</strong></span></span></span><br />\n&nbsp\;
LOCATION:Ramona Bowl 27400 Ramona Bowl Road Hemet\, CA 92544
UID:e.2361.16712
SEQUENCE:3
DTSTAMP:20260422T082500Z
URL:https://business.hemetsanjacintochamber.com/events/details/ramona-outdoor-play-16712
END:VEVENT

END:VCALENDAR
