BEGIN:VCALENDAR
VERSION:2.0
PRODID:-//ChamberMaster//Event Calendar 2.0//EN
METHOD:PUBLISH
X-PUBLISHED-TTL:P3D
REFRESH-INTERVAL:P3D
CALSCALE:GREGORIAN
BEGIN:VEVENT
DTSTART:20260425T223000Z
DTEND:20260426T013000Z
X-MICROSOFT-CDO-ALLDAYEVENT:FALSE
SUMMARY:Ramona Outdoor Play
DESCRIPTION:103rd Season of Ramona\n\nCalifornia's Official Outdoor Play
X-ALT-DESC;FMTTYPE=text/html:<strong><span style="color:#B22222\;"><span style="font-family:comic sans ms\;"><span style="font-size:18px\;"><span style="font-size:16px\;">103rd Season of Ramona<br />\n<span style="font-size:14px\;">California&#39\;s Official Outdoor Play</span></span></span></span></span></strong>
LOCATION:Ramona Bowl 27400 Ramona Bowl Road Hemet\, CA 92544
UID:e.2361.16711
SEQUENCE:3
DTSTAMP:20260422T082501Z
URL:https://business.hemetsanjacintochamber.com/events/details/ramona-outdoor-play-16711
END:VEVENT

END:VCALENDAR
