BEGIN:VCALENDAR
VERSION:2.0
PRODID:-//ChamberMaster//Event Calendar 2.0//EN
METHOD:PUBLISH
X-PUBLISHED-TTL:P3D
REFRESH-INTERVAL:P3D
CALSCALE:GREGORIAN
BEGIN:VEVENT
DTSTART:20260620T230000Z
DTEND:20260621T040000Z
X-MICROSOFT-CDO-ALLDAYEVENT:FALSE
SUMMARY:Ramona Market
DESCRIPTION:Ramona Market\n\n    - Food\n\n    - Music\n\n    - Bar\n\n    - Vendors    and    More!
X-ALT-DESC;FMTTYPE=text/html:<strong><span style="font-family:comic sans ms\;"><span style="font-size:16px\;"><span style="color:#008080\;">Ramona Market</span></span></span></strong><br />\n&nbsp\;<span style="font-size:14px\;"><span style="font-family:comic sans ms\;"><span style="color:#0000CD\;"><strong>&nbsp\;&nbsp\;&nbsp\;- Food<br />\n&nbsp\; &nbsp\; - Music<br />\n&nbsp\; &nbsp\; - Bar<br />\n&nbsp\; &nbsp\; - Vendors&nbsp\; &nbsp\; and&nbsp\; &nbsp\; More!</strong></span></span></span>
LOCATION:Ramona Bowl 27400 Ramona Bowl Road Hemet\, CA 92544
UID:e.2361.16710
SEQUENCE:3
DTSTAMP:20260422T124551Z
URL:https://business.hemetsanjacintochamber.com/events/details/ramona-market-16710
END:VEVENT

END:VCALENDAR
