BEGIN:VCALENDAR
VERSION:2.0
PRODID:-//ChamberMaster//Event Calendar 2.0//EN
METHOD:PUBLISH
X-PUBLISHED-TTL:P3D
REFRESH-INTERVAL:P3D
CALSCALE:GREGORIAN
BEGIN:VEVENT
DTSTART:20260530T230000Z
DTEND:20260531T040000Z
X-MICROSOFT-CDO-ALLDAYEVENT:FALSE
SUMMARY:Ramona Market
DESCRIPTION:Ramona Market\n\n    - Food\n\n    - Music\n\n    - Bar\n\n    - Vendors    and   more!
X-ALT-DESC;FMTTYPE=text/html:<span style="font-size:16px\;"><span style="font-family:comic sans ms\;"><span style="color:#800000\;"><strong>Ramona Market</strong></span></span></span><br />\n<span style="font-size:14px\;"><span style="color:#800000\;"><span style="font-family:comic sans ms\;"><strong>&nbsp\; &nbsp\; - Food<br />\n&nbsp\; &nbsp\; - Music<br />\n&nbsp\; &nbsp\; - Bar<br />\n&nbsp\; &nbsp\; - Vendors&nbsp\; &nbsp\; and&nbsp\; &nbsp\;more!</strong></span></span></span>
LOCATION:Ramona Bowl 27400 Ramona Bowl Road Hemet\, CA 92544
UID:e.2361.16709
SEQUENCE:3
DTSTAMP:20260422T125548Z
URL:https://business.hemetsanjacintochamber.com/events/details/ramona-market-16709
END:VEVENT

END:VCALENDAR
