BEGIN:VCALENDAR
VERSION:2.0
PRODID:-//ChamberMaster//Event Calendar 2.0//EN
METHOD:PUBLISH
X-PUBLISHED-TTL:P3D
REFRESH-INTERVAL:P3D
CALSCALE:GREGORIAN
BEGIN:VEVENT
DTSTART:20260510T193000Z
DTEND:20260510T220000Z
X-MICROSOFT-CDO-ALLDAYEVENT:FALSE
SUMMARY:Mother's Day Brunch - San Jacinto
DESCRIPTION:Celebrate with Mother's Day Brunch at Soboba Casino Resort Event Center at Soboda Casino in San Jacinto an easy local favorite for a feel-good outing. Join us for Mother's Day Brunch - San Jacinto San Jacinto on Sunday\, May 10\, 2026 at 12:30 PM for a relaxed\, lively performance that pairs perfectly with the occasion. This show shines through heartfelt moments\, upbeat energy\, and thoughtful touches that make moms feel truly celebrated expect smiles\, sing-alongs\, and plenty of shared memories. The event center offers comfortable seating\, clear sightlines\, and a convenient San Jacinto location with simple arrival and parking. Make it a day to remember reserve your spot for Mother's Day Brunch - San Jacinto Soboba Casino Resort Event Center at Soboda Casino and book tickets today.
X-ALT-DESC;FMTTYPE=text/html:Celebrate with Mother&rsquo\;s Day Brunch at Soboba Casino Resort Event Center at Soboda Casino in San Jacinto&mdash\;an easy local favorite for a feel-good outing. Join us for Mother&#39\;s Day Brunch - San Jacinto San Jacinto on Sunday\, May 10\, 2026 at 12:30 PM for a relaxed\, lively performance that pairs perfectly with the occasion. This show shines through heartfelt moments\, upbeat energy\, and thoughtful touches that make moms feel truly celebrated&mdash\;expect smiles\, sing-alongs\, and plenty of shared memories. The event center offers comfortable seating\, clear sightlines\, and a convenient San Jacinto location with simple arrival and parking. Make it a day to remember&mdash\;reserve your spot for Mother&#39\;s Day Brunch - San Jacinto Soboba Casino Resort Event Center at Soboda Casino and book tickets today.
LOCATION:Soboba Casino Resort Event Center at Soboda Casino - San Jacinto\, CA
UID:e.2361.16704
SEQUENCE:3
DTSTAMP:20260420T204635Z
URL:https://business.hemetsanjacintochamber.com/events/details/mother-s-day-brunch-san-jacinto-16704
END:VEVENT

END:VCALENDAR
