BEGIN:VCALENDAR
VERSION:2.0
PRODID:-//ChamberMaster//Event Calendar 2.0//EN
METHOD:PUBLISH
X-PUBLISHED-TTL:P3D
REFRESH-INTERVAL:P3D
CALSCALE:GREGORIAN
BEGIN:VEVENT
DTSTART:20260503T030000Z
DTEND:20260503T050000Z
X-MICROSOFT-CDO-ALLDAYEVENT:FALSE
SUMMARY:Julio Preciado - San Jacinto
DESCRIPTION:San Jacinto\, get ready to welcome Julio Preciado live at the Soboba Casino Resort Event Center at Soboda Casino your local go-to spot for a big night out in the city. This is **Julio Preciado - San Jacinto San Jacinto**\, and it's set to feel like a hometown celebration. Julio brings that unmistakable banda power and heartfelt storytelling\, delivering the kind of vocals that hit hard and keep the crowd singing back. Expect a set built for dancing\, with tight musicianship and real connection. Inside the resort's event center\, you'll find a lively\, comfortable atmosphere with easy access and everything close at hand for a smooth night. Make plans now for **Julio Preciado - San Jacinto Soboba Casino Resort Event Center at Soboda Casino** grab your tickets and come be part of it.
X-ALT-DESC;FMTTYPE=text/html:San Jacinto\, get ready to welcome Julio Preciado live at the Soboba Casino Resort Event Center at Soboda Casino&mdash\;your local go-to spot for a big night out in the city. This is **Julio Preciado - San Jacinto San Jacinto**\, and it&rsquo\;s set to feel like a hometown celebration. Julio brings that unmistakable banda power and heartfelt storytelling\, delivering the kind of vocals that hit hard and keep the crowd singing back. Expect a set built for dancing\, with tight musicianship and real connection. Inside the resort&rsquo\;s event center\, you&rsquo\;ll find a lively\, comfortable atmosphere with easy access and everything close at hand for a smooth night. Make plans now for **Julio Preciado - San Jacinto Soboba Casino Resort Event Center at Soboda Casino**&mdash\;grab your tickets and come be part of it.
LOCATION:Soboba Casino Resort Event Center at Soboda Casino - San Jacinto\, CA
UID:e.2361.16703
SEQUENCE:3
DTSTAMP:20260420T204636Z
URL:https://business.hemetsanjacintochamber.com/events/details/julio-preciado-san-jacinto-16703
END:VEVENT

END:VCALENDAR
