BEGIN:VCALENDAR
VERSION:2.0
PRODID:-//ChamberMaster//Event Calendar 2.0//EN
METHOD:PUBLISH
X-PUBLISHED-TTL:P3D
REFRESH-INTERVAL:P3D
CALSCALE:GREGORIAN
BEGIN:VEVENT
DTSTART:20260425T150000Z
DTEND:20260425T190000Z
X-MICROSOFT-CDO-ALLDAYEVENT:FALSE
SUMMARY:Hemet Beautiful
DESCRIPTION:Hemet Beautiful\n\nA Community Day of Service\n\nJoin us for a day dedicated to a cleaner and more beautiful Hemet.\n\n    - Volunteer\n\n    - Work on Potential Projects\n\n    - Sponsorship Opportunities
X-ALT-DESC;FMTTYPE=text/html:<strong><span style="color:#000080\;"><span style="font-family:comic sans ms\;"><span style="font-size:16px\;">Hemet Beautiful<br />\nA Community Day of Service</span></span></span><br />\n<span style="font-family:comic sans ms\;"><span style="font-size:16px\;"><span style="font-size:14px\;"><span style="color:#DAA520\;">Join us for a day dedicated to a cleaner and more beautiful Hemet.</span></span></span></span></strong><br />\n&nbsp\;&nbsp\;&nbsp\;&nbsp\;<strong>- Volunteer</strong><br />\n&nbsp\; &nbsp\;<strong> - Work on Potential Projects<br />\n&nbsp\; &nbsp\; - Sponsorship Opportunities</strong>
LOCATION:West Valley High School 3401 Mustang Way Hemet\, CA
UID:e.2361.16706
SEQUENCE:3
DTSTAMP:20260422T073254Z
URL:https://business.hemetsanjacintochamber.com/events/details/hemet-beautiful-16706
END:VEVENT

END:VCALENDAR
