BEGIN:VCALENDAR
VERSION:2.0
PRODID:-//ChamberMaster//Event Calendar 2.0//EN
METHOD:PUBLISH
X-PUBLISHED-TTL:P3D
REFRESH-INTERVAL:P3D
CALSCALE:GREGORIAN
BEGIN:VEVENT
DTSTART:20260517T030000Z
DTEND:20260517T050000Z
X-MICROSOFT-CDO-ALLDAYEVENT:FALSE
SUMMARY:Frankie Quinones - San Jacinto
DESCRIPTION:San Jacinto\, get ready for a night of laughs as Frankie Quinones hits the Soboba Casino Resort Event Center at Soboda Casino one of the city's go-to spots for live entertainment. Frankie Quinones - San Jacinto San Jacinto is your chance to catch his sharp\, character-driven comedy up close\, packed with quick switches\, street-smart storytelling\, and perfectly timed punchlines that feel ripped from real life. Inside the venue\, you'll find a lively casino-resort energy\, comfortable seating\, and an easy arrival with convenient access in and around San Jacinto. Frankie Quinones - San Jacinto Soboba Casino Resort Event Center at Soboda Casino makes a great night out whether you're local or visiting. Grab your crew\, pick your seats\, and book tickets early this one's going to be talked about.
X-ALT-DESC;FMTTYPE=text/html:San Jacinto\, get ready for a night of laughs as Frankie Quinones hits the Soboba Casino Resort Event Center at Soboda Casino&mdash\;one of the city&rsquo\;s go-to spots for live entertainment. Frankie Quinones - San Jacinto San Jacinto is your chance to catch his sharp\, character-driven comedy up close\, packed with quick switches\, street-smart storytelling\, and perfectly timed punchlines that feel ripped from real life. Inside the venue\, you&rsquo\;ll find a lively casino-resort energy\, comfortable seating\, and an easy arrival with convenient access in and around San Jacinto. Frankie Quinones - San Jacinto Soboba Casino Resort Event Center at Soboda Casino makes a great night out whether you&rsquo\;re local or visiting. Grab your crew\, pick your seats\, and book tickets early&mdash\;this one&rsquo\;s going to be talked about.
LOCATION:Soboba Casino Resort Event Center at Soboda Casino - San Jacinto\, CA
UID:e.2361.16702
SEQUENCE:3
DTSTAMP:20260420T204635Z
URL:https://business.hemetsanjacintochamber.com/events/details/frankie-quinones-san-jacinto-16702
END:VEVENT

END:VCALENDAR
