BEGIN:VCALENDAR
VERSION:2.0
PRODID:-//ChamberMaster//Event Calendar 2.0//EN
METHOD:PUBLISH
X-PUBLISHED-TTL:P3D
REFRESH-INTERVAL:P3D
CALSCALE:GREGORIAN
BEGIN:VEVENT
DTSTART:20260425T160000Z
DTEND:20260425T210000Z
X-MICROSOFT-CDO-ALLDAYEVENT:FALSE
SUMMARY:5K Run & Walk for Life - Birth Choice
DESCRIPTION:Birth Choice Centers\n\n5K  Run & Walk for Life 2026\n\nJoin Us For A Family Friendly Day Of Fun And Fitness While We Raise Funds For Birth Choice Centers!
X-ALT-DESC;FMTTYPE=text/html:<strong><span style="font-family:comic sans ms\;"><span style="font-size:16px\;"><span style="color:#008080\;">Birth Choice Centers</span><br />\n5K&nbsp\;&nbsp\;<span style="color:#008080\;">Run &amp\; Walk&nbsp\;</span><span style="color:#000080\;">for Life 2026</span><br />\n<span style="font-size:14px\;">Join Us For A Family Friendly Day Of Fun And Fitness While We Raise Funds For Birth Choice Centers!</span></span></span></strong>
LOCATION:Linfield Christian School 31950 Pauba Road Temecula\, CA 92592
UID:e.2361.16708
SEQUENCE:3
DTSTAMP:20260422T082550Z
URL:https://business.hemetsanjacintochamber.com/events/details/5k-run-walk-for-life-birth-choice-16708
END:VEVENT

END:VCALENDAR
