BEGIN:VCALENDAR
VERSION:2.0
PRODID:-//ChamberMaster//Event Calendar 2.0//EN
METHOD:PUBLISH
X-PUBLISHED-TTL:P3D
REFRESH-INTERVAL:P3D
CALSCALE:GREGORIAN
BEGIN:VEVENT
DTSTART:20260430T140000Z
DTEND:20260430T180000Z
X-MICROSOFT-CDO-ALLDAYEVENT:FALSE
SUMMARY:2nd Annual Hemet Regional Economic Summit
DESCRIPTION:Welcome to the Hemet Regional Economic Summit!\n\nJoin us for a day filled with engaging discussions\, insightful presentations\, and networking opportunities. The summit will bring together industry experts\, local businesses\, and community leaders to discuss the economic landscape of the region.\n\nPrepare to gain valuable Insights on the latest trends\, potential Opportunities\, and challenges facing our local economy. This is your chance to connect with like-minded individuals\, share ideas\, and collaborate on strategies for growth.\n\nDon't miss this Opportunity to be part of shaping the future of the Hemet region's economy. Put your business on the map and make meaningful Connections that can help boost your success.\n\nFeaturing Keynote Speaker:\n\nDr. Daniel MacDonald\, Economics Department Chair\, California State University\, San Bernardino.\n\nDr. MacDonald Will Provide a Comprehensive Analysis of the National\, State\, and Local Economic Outlook for 2026. Gain Valuable Insights Into Key Economic Indicators\, Potential Challenges\, and Opportunities for Growth Within The City of Hemet and Riverside County.\n\nMark your calendar and get ready to dive into a day of Economic Exploration at the Hemet Regional Economic Summit!
X-ALT-DESC;FMTTYPE=text/html:<p style="box-sizing: border-box\; padding: 0px 0px 12px\; margin: 12px 0px 0px\; color: rgb(88\, 81\, 99)\; font-family: &quot\;Neue Plak&quot\;\, -apple-system\, &quot\;system-ui&quot\;\, Roboto\, &quot\;Helvetica Neue&quot\;\, Helvetica\, Tahoma\, Arial\, sans-serif\; font-size: 18px\; letter-spacing: 0.1px\;"><span style="box-sizing: border-box\; padding: 0px\; margin: 0px\; font-weight: 600\;">Welcome to the Hemet Regional Economic Summit!</span></p>\n\n<p style="box-sizing: border-box\; padding: 0px 0px 12px\; margin: 12px 0px 0px\; color: rgb(88\, 81\, 99)\; font-family: &quot\;Neue Plak&quot\;\, -apple-system\, &quot\;system-ui&quot\;\, Roboto\, &quot\;Helvetica Neue&quot\;\, Helvetica\, Tahoma\, Arial\, sans-serif\; font-size: 18px\; letter-spacing: 0.1px\;">Join us for a day filled with engaging discussions\, insightful presentations\, and networking opportunities. The summit will bring together industry experts\, local businesses\, and community leaders to discuss the economic landscape of the region.</p>\n\n<p style="box-sizing: border-box\; padding: 0px 0px 12px\; margin: 12px 0px 0px\; color: rgb(88\, 81\, 99)\; font-family: &quot\;Neue Plak&quot\;\, -apple-system\, &quot\;system-ui&quot\;\, Roboto\, &quot\;Helvetica Neue&quot\;\, Helvetica\, Tahoma\, Arial\, sans-serif\; font-size: 18px\; letter-spacing: 0.1px\;">Prepare to gain valuable Insights on the latest trends\, potential Opportunities\, and challenges facing our local economy. This is your chance to connect with like-minded individuals\, share ideas\, and collaborate on strategies for growth.</p>\n\n<p style="box-sizing: border-box\; padding: 0px 0px 12px\; margin: 12px 0px 0px\; color: rgb(88\, 81\, 99)\; font-family: &quot\;Neue Plak&quot\;\, -apple-system\, &quot\;system-ui&quot\;\, Roboto\, &quot\;Helvetica Neue&quot\;\, Helvetica\, Tahoma\, Arial\, sans-serif\; font-size: 18px\; letter-spacing: 0.1px\;">Don&#39\;t miss this Opportunity to be part of shaping the future of the Hemet region&#39\;s economy. Put your business on the map and make meaningful Connections that can help boost your success.</p>\n\n<p style="box-sizing: border-box\; padding: 0px 0px 12px\; margin: 12px 0px 0px\; color: rgb(88\, 81\, 99)\; font-family: &quot\;Neue Plak&quot\;\, -apple-system\, &quot\;system-ui&quot\;\, Roboto\, &quot\;Helvetica Neue&quot\;\, Helvetica\, Tahoma\, Arial\, sans-serif\; font-size: 18px\; letter-spacing: 0.1px\;">Featuring Keynote Speaker:</p>\n\n<p style="box-sizing: border-box\; padding: 0px 0px 12px\; margin: 12px 0px 0px\; color: rgb(88\, 81\, 99)\; font-family: &quot\;Neue Plak&quot\;\, -apple-system\, &quot\;system-ui&quot\;\, Roboto\, &quot\;Helvetica Neue&quot\;\, Helvetica\, Tahoma\, Arial\, sans-serif\; font-size: 18px\; letter-spacing: 0.1px\;">Dr. Daniel MacDonald\, Economics Department Chair\, California State University\, San Bernardino.</p>\n\n<p style="box-sizing: border-box\; padding: 0px 0px 12px\; margin: 12px 0px 0px\; color: rgb(88\, 81\, 99)\; font-family: &quot\;Neue Plak&quot\;\, -apple-system\, &quot\;system-ui&quot\;\, Roboto\, &quot\;Helvetica Neue&quot\;\, Helvetica\, Tahoma\, Arial\, sans-serif\; font-size: 18px\; letter-spacing: 0.1px\;">Dr. MacDonald Will Provide a Comprehensive Analysis of the National\, State\, and Local Economic Outlook for 2026. Gain Valuable Insights Into Key Economic Indicators\, Potential Challenges\, and Opportunities for Growth Within The City of Hemet and Riverside County.</p>\n\n<p style="box-sizing: border-box\; padding: 0px 0px 12px\; margin: 12px 0px 0px\; color: rgb(88\, 81\, 99)\; font-family: &quot\;Neue Plak&quot\;\, -apple-system\, &quot\;system-ui&quot\;\, Roboto\, &quot\;Helvetica Neue&quot\;\, Helvetica\, Tahoma\, Arial\, sans-serif\; font-size: 18px\; letter-spacing: 0.1px\;">Mark your calendar and get ready to dive into a day of Economic Exploration at the Hemet Regional Economic Summit!</p>\n
LOCATION:Hemet Public Library 300 E Latham Ave Hemet\, CA. 92543
UID:e.2361.16705
SEQUENCE:3
DTSTAMP:20260421T202753Z
URL:https://business.hemetsanjacintochamber.com/events/details/2nd-annual-hemet-regional-economic-summit-16705
END:VEVENT

END:VCALENDAR
